BEGIN:VCALENDAR
VERSION:2.0
PRODID:-//Book Your Event at Kauai Philippine Cultural Center - ECPv6.13.1//NONSGML v1.0//EN
CALSCALE:GREGORIAN
METHOD:PUBLISH
X-ORIGINAL-URL:https://kauaiphilippineculturalcenter.org
X-WR-CALDESC:Events for Book Your Event at Kauai Philippine Cultural Center
REFRESH-INTERVAL;VALUE=DURATION:PT1H
X-Robots-Tag:noindex
X-PUBLISHED-TTL:PT1H
BEGIN:VTIMEZONE
TZID:UTC
BEGIN:STANDARD
TZOFFSETFROM:+0000
TZOFFSETTO:+0000
TZNAME:UTC
DTSTART:20260101T000000
END:STANDARD
END:VTIMEZONE
BEGIN:VTIMEZONE
TZID:Pacific/Honolulu
BEGIN:STANDARD
TZOFFSETFROM:-1000
TZOFFSETTO:-1000
TZNAME:HST
DTSTART:20260101T000000
END:STANDARD
END:VTIMEZONE
BEGIN:VEVENT
DTSTART;TZID=UTC:20261118T151500
DTEND;TZID=UTC:20261118T170000
DTSTAMP:20260420T150622
CREATED:20251104T004832Z
LAST-MODIFIED:20251104T004832Z
UID:10001111-1795014900-1795021200@kauaiphilippineculturalcenter.org
SUMMARY:Wellness Afternoon
DESCRIPTION:Mindfulness for Stress Reduction \nChair Yoga & Qigong Flow \nLearn mindful practices to help you find peace and calm. \nDonation based.
URL:https://kauaiphilippineculturalcenter.org/event/wellness-afternoon/2026-11-18/
LOCATION:Kauai Philippine Cultural Center\, 4475f Nuhou St\, Lihue\, HI\, 96766\, United States
CATEGORIES:Exercise Class
ATTACH;FMTTYPE=image/jpeg:https://kauaiphilippineculturalcenter.org/wp-content/uploads/2025/11/4070082565064109083.jpg
END:VEVENT
BEGIN:VEVENT
DTSTART;TZID=Pacific/Honolulu:20261118T173000
DTEND;TZID=Pacific/Honolulu:20261118T183000
DTSTAMP:20260420T150622
CREATED:20250604T215102Z
LAST-MODIFIED:20250604T220903Z
UID:10000086-1795023000-1795026600@kauaiphilippineculturalcenter.org
SUMMARY:Zumba
DESCRIPTION:Zumba\nJoin us for Zumba every Wednesday from 5:30-6:30 p.m. at the Kaua’i Philippine Cultural Center. This class is offered by donation. A $5 donation is recommended. See you there!
URL:https://kauaiphilippineculturalcenter.org/event/zumba/2026-11-18/
LOCATION:Kauai Philippine Cultural Center\, 4475f Nuhou St\, Lihue\, HI\, 96766\, United States
CATEGORIES:Exercise Class
ATTACH;FMTTYPE=image/jpeg:https://kauaiphilippineculturalcenter.org/wp-content/uploads/2025/06/1000005257.jpg
END:VEVENT
BEGIN:VEVENT
DTSTART;TZID=UTC:20261125T151500
DTEND;TZID=UTC:20261125T170000
DTSTAMP:20260420T150622
CREATED:20251104T004832Z
LAST-MODIFIED:20251104T004832Z
UID:10001112-1795619700-1795626000@kauaiphilippineculturalcenter.org
SUMMARY:Wellness Afternoon
DESCRIPTION:Mindfulness for Stress Reduction \nChair Yoga & Qigong Flow \nLearn mindful practices to help you find peace and calm. \nDonation based.
URL:https://kauaiphilippineculturalcenter.org/event/wellness-afternoon/2026-11-25/
LOCATION:Kauai Philippine Cultural Center\, 4475f Nuhou St\, Lihue\, HI\, 96766\, United States
CATEGORIES:Exercise Class
ATTACH;FMTTYPE=image/jpeg:https://kauaiphilippineculturalcenter.org/wp-content/uploads/2025/11/4070082565064109083.jpg
END:VEVENT
BEGIN:VEVENT
DTSTART;TZID=Pacific/Honolulu:20261125T173000
DTEND;TZID=Pacific/Honolulu:20261125T183000
DTSTAMP:20260420T150622
CREATED:20250604T215102Z
LAST-MODIFIED:20250604T220903Z
UID:10000087-1795627800-1795631400@kauaiphilippineculturalcenter.org
SUMMARY:Zumba
DESCRIPTION:Zumba\nJoin us for Zumba every Wednesday from 5:30-6:30 p.m. at the Kaua’i Philippine Cultural Center. This class is offered by donation. A $5 donation is recommended. See you there!
URL:https://kauaiphilippineculturalcenter.org/event/zumba/2026-11-25/
LOCATION:Kauai Philippine Cultural Center\, 4475f Nuhou St\, Lihue\, HI\, 96766\, United States
CATEGORIES:Exercise Class
ATTACH;FMTTYPE=image/jpeg:https://kauaiphilippineculturalcenter.org/wp-content/uploads/2025/06/1000005257.jpg
END:VEVENT
BEGIN:VEVENT
DTSTART;TZID=UTC:20261202T151500
DTEND;TZID=UTC:20261202T170000
DTSTAMP:20260420T150622
CREATED:20251104T004832Z
LAST-MODIFIED:20251104T004832Z
UID:10001113-1796224500-1796230800@kauaiphilippineculturalcenter.org
SUMMARY:Wellness Afternoon
DESCRIPTION:Mindfulness for Stress Reduction \nChair Yoga & Qigong Flow \nLearn mindful practices to help you find peace and calm. \nDonation based.
URL:https://kauaiphilippineculturalcenter.org/event/wellness-afternoon/2026-12-02/
LOCATION:Kauai Philippine Cultural Center\, 4475f Nuhou St\, Lihue\, HI\, 96766\, United States
CATEGORIES:Exercise Class
ATTACH;FMTTYPE=image/jpeg:https://kauaiphilippineculturalcenter.org/wp-content/uploads/2025/11/4070082565064109083.jpg
END:VEVENT
BEGIN:VEVENT
DTSTART;TZID=Pacific/Honolulu:20261202T173000
DTEND;TZID=Pacific/Honolulu:20261202T183000
DTSTAMP:20260420T150622
CREATED:20250604T215102Z
LAST-MODIFIED:20250604T220903Z
UID:10000088-1796232600-1796236200@kauaiphilippineculturalcenter.org
SUMMARY:Zumba
DESCRIPTION:Zumba\nJoin us for Zumba every Wednesday from 5:30-6:30 p.m. at the Kaua’i Philippine Cultural Center. This class is offered by donation. A $5 donation is recommended. See you there!
URL:https://kauaiphilippineculturalcenter.org/event/zumba/2026-12-02/
LOCATION:Kauai Philippine Cultural Center\, 4475f Nuhou St\, Lihue\, HI\, 96766\, United States
CATEGORIES:Exercise Class
ATTACH;FMTTYPE=image/jpeg:https://kauaiphilippineculturalcenter.org/wp-content/uploads/2025/06/1000005257.jpg
END:VEVENT
BEGIN:VEVENT
DTSTART;TZID=UTC:20261209T151500
DTEND;TZID=UTC:20261209T170000
DTSTAMP:20260420T150622
CREATED:20251104T004832Z
LAST-MODIFIED:20251104T004832Z
UID:10001114-1796829300-1796835600@kauaiphilippineculturalcenter.org
SUMMARY:Wellness Afternoon
DESCRIPTION:Mindfulness for Stress Reduction \nChair Yoga & Qigong Flow \nLearn mindful practices to help you find peace and calm. \nDonation based.
URL:https://kauaiphilippineculturalcenter.org/event/wellness-afternoon/2026-12-09/
LOCATION:Kauai Philippine Cultural Center\, 4475f Nuhou St\, Lihue\, HI\, 96766\, United States
CATEGORIES:Exercise Class
ATTACH;FMTTYPE=image/jpeg:https://kauaiphilippineculturalcenter.org/wp-content/uploads/2025/11/4070082565064109083.jpg
END:VEVENT
BEGIN:VEVENT
DTSTART;TZID=Pacific/Honolulu:20261209T173000
DTEND;TZID=Pacific/Honolulu:20261209T183000
DTSTAMP:20260420T150622
CREATED:20250604T215102Z
LAST-MODIFIED:20250604T220903Z
UID:10000089-1796837400-1796841000@kauaiphilippineculturalcenter.org
SUMMARY:Zumba
DESCRIPTION:Zumba\nJoin us for Zumba every Wednesday from 5:30-6:30 p.m. at the Kaua’i Philippine Cultural Center. This class is offered by donation. A $5 donation is recommended. See you there!
URL:https://kauaiphilippineculturalcenter.org/event/zumba/2026-12-09/
LOCATION:Kauai Philippine Cultural Center\, 4475f Nuhou St\, Lihue\, HI\, 96766\, United States
CATEGORIES:Exercise Class
ATTACH;FMTTYPE=image/jpeg:https://kauaiphilippineculturalcenter.org/wp-content/uploads/2025/06/1000005257.jpg
END:VEVENT
BEGIN:VEVENT
DTSTART;TZID=UTC:20261216T151500
DTEND;TZID=UTC:20261216T170000
DTSTAMP:20260420T150622
CREATED:20251104T004832Z
LAST-MODIFIED:20251104T004832Z
UID:10001115-1797434100-1797440400@kauaiphilippineculturalcenter.org
SUMMARY:Wellness Afternoon
DESCRIPTION:Mindfulness for Stress Reduction \nChair Yoga & Qigong Flow \nLearn mindful practices to help you find peace and calm. \nDonation based.
URL:https://kauaiphilippineculturalcenter.org/event/wellness-afternoon/2026-12-16/
LOCATION:Kauai Philippine Cultural Center\, 4475f Nuhou St\, Lihue\, HI\, 96766\, United States
CATEGORIES:Exercise Class
ATTACH;FMTTYPE=image/jpeg:https://kauaiphilippineculturalcenter.org/wp-content/uploads/2025/11/4070082565064109083.jpg
END:VEVENT
BEGIN:VEVENT
DTSTART;TZID=Pacific/Honolulu:20261216T173000
DTEND;TZID=Pacific/Honolulu:20261216T183000
DTSTAMP:20260420T150622
CREATED:20250604T215102Z
LAST-MODIFIED:20250604T220903Z
UID:10000090-1797442200-1797445800@kauaiphilippineculturalcenter.org
SUMMARY:Zumba
DESCRIPTION:Zumba\nJoin us for Zumba every Wednesday from 5:30-6:30 p.m. at the Kaua’i Philippine Cultural Center. This class is offered by donation. A $5 donation is recommended. See you there!
URL:https://kauaiphilippineculturalcenter.org/event/zumba/2026-12-16/
LOCATION:Kauai Philippine Cultural Center\, 4475f Nuhou St\, Lihue\, HI\, 96766\, United States
CATEGORIES:Exercise Class
ATTACH;FMTTYPE=image/jpeg:https://kauaiphilippineculturalcenter.org/wp-content/uploads/2025/06/1000005257.jpg
END:VEVENT
BEGIN:VEVENT
DTSTART;TZID=UTC:20261223T151500
DTEND;TZID=UTC:20261223T170000
DTSTAMP:20260420T150622
CREATED:20251104T004832Z
LAST-MODIFIED:20251104T004832Z
UID:10001116-1798038900-1798045200@kauaiphilippineculturalcenter.org
SUMMARY:Wellness Afternoon
DESCRIPTION:Mindfulness for Stress Reduction \nChair Yoga & Qigong Flow \nLearn mindful practices to help you find peace and calm. \nDonation based.
URL:https://kauaiphilippineculturalcenter.org/event/wellness-afternoon/2026-12-23/
LOCATION:Kauai Philippine Cultural Center\, 4475f Nuhou St\, Lihue\, HI\, 96766\, United States
CATEGORIES:Exercise Class
ATTACH;FMTTYPE=image/jpeg:https://kauaiphilippineculturalcenter.org/wp-content/uploads/2025/11/4070082565064109083.jpg
END:VEVENT
BEGIN:VEVENT
DTSTART;TZID=Pacific/Honolulu:20261223T173000
DTEND;TZID=Pacific/Honolulu:20261223T183000
DTSTAMP:20260420T150622
CREATED:20250604T215102Z
LAST-MODIFIED:20250604T220903Z
UID:10000091-1798047000-1798050600@kauaiphilippineculturalcenter.org
SUMMARY:Zumba
DESCRIPTION:Zumba\nJoin us for Zumba every Wednesday from 5:30-6:30 p.m. at the Kaua’i Philippine Cultural Center. This class is offered by donation. A $5 donation is recommended. See you there!
URL:https://kauaiphilippineculturalcenter.org/event/zumba/2026-12-23/
LOCATION:Kauai Philippine Cultural Center\, 4475f Nuhou St\, Lihue\, HI\, 96766\, United States
CATEGORIES:Exercise Class
ATTACH;FMTTYPE=image/jpeg:https://kauaiphilippineculturalcenter.org/wp-content/uploads/2025/06/1000005257.jpg
END:VEVENT
BEGIN:VEVENT
DTSTART;TZID=UTC:20261230T151500
DTEND;TZID=UTC:20261230T170000
DTSTAMP:20260420T150622
CREATED:20251104T004832Z
LAST-MODIFIED:20251104T004832Z
UID:10001117-1798643700-1798650000@kauaiphilippineculturalcenter.org
SUMMARY:Wellness Afternoon
DESCRIPTION:Mindfulness for Stress Reduction \nChair Yoga & Qigong Flow \nLearn mindful practices to help you find peace and calm. \nDonation based.
URL:https://kauaiphilippineculturalcenter.org/event/wellness-afternoon/2026-12-30/
LOCATION:Kauai Philippine Cultural Center\, 4475f Nuhou St\, Lihue\, HI\, 96766\, United States
CATEGORIES:Exercise Class
ATTACH;FMTTYPE=image/jpeg:https://kauaiphilippineculturalcenter.org/wp-content/uploads/2025/11/4070082565064109083.jpg
END:VEVENT
BEGIN:VEVENT
DTSTART;TZID=Pacific/Honolulu:20261230T173000
DTEND;TZID=Pacific/Honolulu:20261230T183000
DTSTAMP:20260420T150622
CREATED:20250604T215102Z
LAST-MODIFIED:20250604T220903Z
UID:10000092-1798651800-1798655400@kauaiphilippineculturalcenter.org
SUMMARY:Zumba
DESCRIPTION:Zumba\nJoin us for Zumba every Wednesday from 5:30-6:30 p.m. at the Kaua’i Philippine Cultural Center. This class is offered by donation. A $5 donation is recommended. See you there!
URL:https://kauaiphilippineculturalcenter.org/event/zumba/2026-12-30/
LOCATION:Kauai Philippine Cultural Center\, 4475f Nuhou St\, Lihue\, HI\, 96766\, United States
CATEGORIES:Exercise Class
ATTACH;FMTTYPE=image/jpeg:https://kauaiphilippineculturalcenter.org/wp-content/uploads/2025/06/1000005257.jpg
END:VEVENT
BEGIN:VEVENT
DTSTART;TZID=UTC:20270106T151500
DTEND;TZID=UTC:20270106T170000
DTSTAMP:20260420T150622
CREATED:20251104T004832Z
LAST-MODIFIED:20251104T004832Z
UID:10001118-1799248500-1799254800@kauaiphilippineculturalcenter.org
SUMMARY:Wellness Afternoon
DESCRIPTION:Mindfulness for Stress Reduction \nChair Yoga & Qigong Flow \nLearn mindful practices to help you find peace and calm. \nDonation based.
URL:https://kauaiphilippineculturalcenter.org/event/wellness-afternoon/2027-01-06/
LOCATION:Kauai Philippine Cultural Center\, 4475f Nuhou St\, Lihue\, HI\, 96766\, United States
CATEGORIES:Exercise Class
ATTACH;FMTTYPE=image/jpeg:https://kauaiphilippineculturalcenter.org/wp-content/uploads/2025/11/4070082565064109083.jpg
END:VEVENT
BEGIN:VEVENT
DTSTART;TZID=Pacific/Honolulu:20270106T173000
DTEND;TZID=Pacific/Honolulu:20270106T183000
DTSTAMP:20260420T150622
CREATED:20250604T215102Z
LAST-MODIFIED:20250604T220903Z
UID:10000093-1799256600-1799260200@kauaiphilippineculturalcenter.org
SUMMARY:Zumba
DESCRIPTION:Zumba\nJoin us for Zumba every Wednesday from 5:30-6:30 p.m. at the Kaua’i Philippine Cultural Center. This class is offered by donation. A $5 donation is recommended. See you there!
URL:https://kauaiphilippineculturalcenter.org/event/zumba/2027-01-06/
LOCATION:Kauai Philippine Cultural Center\, 4475f Nuhou St\, Lihue\, HI\, 96766\, United States
CATEGORIES:Exercise Class
ATTACH;FMTTYPE=image/jpeg:https://kauaiphilippineculturalcenter.org/wp-content/uploads/2025/06/1000005257.jpg
END:VEVENT
BEGIN:VEVENT
DTSTART;TZID=UTC:20270113T151500
DTEND;TZID=UTC:20270113T170000
DTSTAMP:20260420T150622
CREATED:20251104T004832Z
LAST-MODIFIED:20251104T004832Z
UID:10001119-1799853300-1799859600@kauaiphilippineculturalcenter.org
SUMMARY:Wellness Afternoon
DESCRIPTION:Mindfulness for Stress Reduction \nChair Yoga & Qigong Flow \nLearn mindful practices to help you find peace and calm. \nDonation based.
URL:https://kauaiphilippineculturalcenter.org/event/wellness-afternoon/2027-01-13/
LOCATION:Kauai Philippine Cultural Center\, 4475f Nuhou St\, Lihue\, HI\, 96766\, United States
CATEGORIES:Exercise Class
ATTACH;FMTTYPE=image/jpeg:https://kauaiphilippineculturalcenter.org/wp-content/uploads/2025/11/4070082565064109083.jpg
END:VEVENT
BEGIN:VEVENT
DTSTART;TZID=Pacific/Honolulu:20270113T173000
DTEND;TZID=Pacific/Honolulu:20270113T183000
DTSTAMP:20260420T150622
CREATED:20250604T215102Z
LAST-MODIFIED:20250604T220903Z
UID:10000094-1799861400-1799865000@kauaiphilippineculturalcenter.org
SUMMARY:Zumba
DESCRIPTION:Zumba\nJoin us for Zumba every Wednesday from 5:30-6:30 p.m. at the Kaua’i Philippine Cultural Center. This class is offered by donation. A $5 donation is recommended. See you there!
URL:https://kauaiphilippineculturalcenter.org/event/zumba/2027-01-13/
LOCATION:Kauai Philippine Cultural Center\, 4475f Nuhou St\, Lihue\, HI\, 96766\, United States
CATEGORIES:Exercise Class
ATTACH;FMTTYPE=image/jpeg:https://kauaiphilippineculturalcenter.org/wp-content/uploads/2025/06/1000005257.jpg
END:VEVENT
BEGIN:VEVENT
DTSTART;TZID=UTC:20270120T151500
DTEND;TZID=UTC:20270120T170000
DTSTAMP:20260420T150622
CREATED:20251104T004832Z
LAST-MODIFIED:20251104T004832Z
UID:10001120-1800458100-1800464400@kauaiphilippineculturalcenter.org
SUMMARY:Wellness Afternoon
DESCRIPTION:Mindfulness for Stress Reduction \nChair Yoga & Qigong Flow \nLearn mindful practices to help you find peace and calm. \nDonation based.
URL:https://kauaiphilippineculturalcenter.org/event/wellness-afternoon/2027-01-20/
LOCATION:Kauai Philippine Cultural Center\, 4475f Nuhou St\, Lihue\, HI\, 96766\, United States
CATEGORIES:Exercise Class
ATTACH;FMTTYPE=image/jpeg:https://kauaiphilippineculturalcenter.org/wp-content/uploads/2025/11/4070082565064109083.jpg
END:VEVENT
BEGIN:VEVENT
DTSTART;TZID=Pacific/Honolulu:20270120T173000
DTEND;TZID=Pacific/Honolulu:20270120T183000
DTSTAMP:20260420T150622
CREATED:20250604T215102Z
LAST-MODIFIED:20250604T220903Z
UID:10000095-1800466200-1800469800@kauaiphilippineculturalcenter.org
SUMMARY:Zumba
DESCRIPTION:Zumba\nJoin us for Zumba every Wednesday from 5:30-6:30 p.m. at the Kaua’i Philippine Cultural Center. This class is offered by donation. A $5 donation is recommended. See you there!
URL:https://kauaiphilippineculturalcenter.org/event/zumba/2027-01-20/
LOCATION:Kauai Philippine Cultural Center\, 4475f Nuhou St\, Lihue\, HI\, 96766\, United States
CATEGORIES:Exercise Class
ATTACH;FMTTYPE=image/jpeg:https://kauaiphilippineculturalcenter.org/wp-content/uploads/2025/06/1000005257.jpg
END:VEVENT
BEGIN:VEVENT
DTSTART;TZID=UTC:20270127T151500
DTEND;TZID=UTC:20270127T170000
DTSTAMP:20260420T150622
CREATED:20251104T004832Z
LAST-MODIFIED:20251104T004832Z
UID:10001121-1801062900-1801069200@kauaiphilippineculturalcenter.org
SUMMARY:Wellness Afternoon
DESCRIPTION:Mindfulness for Stress Reduction \nChair Yoga & Qigong Flow \nLearn mindful practices to help you find peace and calm. \nDonation based.
URL:https://kauaiphilippineculturalcenter.org/event/wellness-afternoon/2027-01-27/
LOCATION:Kauai Philippine Cultural Center\, 4475f Nuhou St\, Lihue\, HI\, 96766\, United States
CATEGORIES:Exercise Class
ATTACH;FMTTYPE=image/jpeg:https://kauaiphilippineculturalcenter.org/wp-content/uploads/2025/11/4070082565064109083.jpg
END:VEVENT
BEGIN:VEVENT
DTSTART;TZID=Pacific/Honolulu:20270127T173000
DTEND;TZID=Pacific/Honolulu:20270127T183000
DTSTAMP:20260420T150622
CREATED:20250604T215102Z
LAST-MODIFIED:20250604T220903Z
UID:10000096-1801071000-1801074600@kauaiphilippineculturalcenter.org
SUMMARY:Zumba
DESCRIPTION:Zumba\nJoin us for Zumba every Wednesday from 5:30-6:30 p.m. at the Kaua’i Philippine Cultural Center. This class is offered by donation. A $5 donation is recommended. See you there!
URL:https://kauaiphilippineculturalcenter.org/event/zumba/2027-01-27/
LOCATION:Kauai Philippine Cultural Center\, 4475f Nuhou St\, Lihue\, HI\, 96766\, United States
CATEGORIES:Exercise Class
ATTACH;FMTTYPE=image/jpeg:https://kauaiphilippineculturalcenter.org/wp-content/uploads/2025/06/1000005257.jpg
END:VEVENT
BEGIN:VEVENT
DTSTART;TZID=UTC:20270203T151500
DTEND;TZID=UTC:20270203T170000
DTSTAMP:20260420T150622
CREATED:20251104T004832Z
LAST-MODIFIED:20251104T004832Z
UID:10001122-1801667700-1801674000@kauaiphilippineculturalcenter.org
SUMMARY:Wellness Afternoon
DESCRIPTION:Mindfulness for Stress Reduction \nChair Yoga & Qigong Flow \nLearn mindful practices to help you find peace and calm. \nDonation based.
URL:https://kauaiphilippineculturalcenter.org/event/wellness-afternoon/2027-02-03/
LOCATION:Kauai Philippine Cultural Center\, 4475f Nuhou St\, Lihue\, HI\, 96766\, United States
CATEGORIES:Exercise Class
ATTACH;FMTTYPE=image/jpeg:https://kauaiphilippineculturalcenter.org/wp-content/uploads/2025/11/4070082565064109083.jpg
END:VEVENT
BEGIN:VEVENT
DTSTART;TZID=Pacific/Honolulu:20270203T173000
DTEND;TZID=Pacific/Honolulu:20270203T183000
DTSTAMP:20260420T150622
CREATED:20250604T215102Z
LAST-MODIFIED:20250604T220903Z
UID:10000097-1801675800-1801679400@kauaiphilippineculturalcenter.org
SUMMARY:Zumba
DESCRIPTION:Zumba\nJoin us for Zumba every Wednesday from 5:30-6:30 p.m. at the Kaua’i Philippine Cultural Center. This class is offered by donation. A $5 donation is recommended. See you there!
URL:https://kauaiphilippineculturalcenter.org/event/zumba/2027-02-03/
LOCATION:Kauai Philippine Cultural Center\, 4475f Nuhou St\, Lihue\, HI\, 96766\, United States
CATEGORIES:Exercise Class
ATTACH;FMTTYPE=image/jpeg:https://kauaiphilippineculturalcenter.org/wp-content/uploads/2025/06/1000005257.jpg
END:VEVENT
BEGIN:VEVENT
DTSTART;TZID=UTC:20270210T151500
DTEND;TZID=UTC:20270210T170000
DTSTAMP:20260420T150622
CREATED:20251104T004832Z
LAST-MODIFIED:20251104T004832Z
UID:10001123-1802272500-1802278800@kauaiphilippineculturalcenter.org
SUMMARY:Wellness Afternoon
DESCRIPTION:Mindfulness for Stress Reduction \nChair Yoga & Qigong Flow \nLearn mindful practices to help you find peace and calm. \nDonation based.
URL:https://kauaiphilippineculturalcenter.org/event/wellness-afternoon/2027-02-10/
LOCATION:Kauai Philippine Cultural Center\, 4475f Nuhou St\, Lihue\, HI\, 96766\, United States
CATEGORIES:Exercise Class
ATTACH;FMTTYPE=image/jpeg:https://kauaiphilippineculturalcenter.org/wp-content/uploads/2025/11/4070082565064109083.jpg
END:VEVENT
BEGIN:VEVENT
DTSTART;TZID=Pacific/Honolulu:20270210T173000
DTEND;TZID=Pacific/Honolulu:20270210T183000
DTSTAMP:20260420T150622
CREATED:20250604T215102Z
LAST-MODIFIED:20250604T220903Z
UID:10000098-1802280600-1802284200@kauaiphilippineculturalcenter.org
SUMMARY:Zumba
DESCRIPTION:Zumba\nJoin us for Zumba every Wednesday from 5:30-6:30 p.m. at the Kaua’i Philippine Cultural Center. This class is offered by donation. A $5 donation is recommended. See you there!
URL:https://kauaiphilippineculturalcenter.org/event/zumba/2027-02-10/
LOCATION:Kauai Philippine Cultural Center\, 4475f Nuhou St\, Lihue\, HI\, 96766\, United States
CATEGORIES:Exercise Class
ATTACH;FMTTYPE=image/jpeg:https://kauaiphilippineculturalcenter.org/wp-content/uploads/2025/06/1000005257.jpg
END:VEVENT
BEGIN:VEVENT
DTSTART;TZID=UTC:20270217T151500
DTEND;TZID=UTC:20270217T170000
DTSTAMP:20260420T150622
CREATED:20251104T004832Z
LAST-MODIFIED:20251104T004832Z
UID:10001124-1802877300-1802883600@kauaiphilippineculturalcenter.org
SUMMARY:Wellness Afternoon
DESCRIPTION:Mindfulness for Stress Reduction \nChair Yoga & Qigong Flow \nLearn mindful practices to help you find peace and calm. \nDonation based.
URL:https://kauaiphilippineculturalcenter.org/event/wellness-afternoon/2027-02-17/
LOCATION:Kauai Philippine Cultural Center\, 4475f Nuhou St\, Lihue\, HI\, 96766\, United States
CATEGORIES:Exercise Class
ATTACH;FMTTYPE=image/jpeg:https://kauaiphilippineculturalcenter.org/wp-content/uploads/2025/11/4070082565064109083.jpg
END:VEVENT
BEGIN:VEVENT
DTSTART;TZID=Pacific/Honolulu:20270217T173000
DTEND;TZID=Pacific/Honolulu:20270217T183000
DTSTAMP:20260420T150622
CREATED:20250604T215102Z
LAST-MODIFIED:20250604T220903Z
UID:10000099-1802885400-1802889000@kauaiphilippineculturalcenter.org
SUMMARY:Zumba
DESCRIPTION:Zumba\nJoin us for Zumba every Wednesday from 5:30-6:30 p.m. at the Kaua’i Philippine Cultural Center. This class is offered by donation. A $5 donation is recommended. See you there!
URL:https://kauaiphilippineculturalcenter.org/event/zumba/2027-02-17/
LOCATION:Kauai Philippine Cultural Center\, 4475f Nuhou St\, Lihue\, HI\, 96766\, United States
CATEGORIES:Exercise Class
ATTACH;FMTTYPE=image/jpeg:https://kauaiphilippineculturalcenter.org/wp-content/uploads/2025/06/1000005257.jpg
END:VEVENT
BEGIN:VEVENT
DTSTART;TZID=UTC:20270224T151500
DTEND;TZID=UTC:20270224T170000
DTSTAMP:20260420T150622
CREATED:20251104T004832Z
LAST-MODIFIED:20251104T004832Z
UID:10001125-1803482100-1803488400@kauaiphilippineculturalcenter.org
SUMMARY:Wellness Afternoon
DESCRIPTION:Mindfulness for Stress Reduction \nChair Yoga & Qigong Flow \nLearn mindful practices to help you find peace and calm. \nDonation based.
URL:https://kauaiphilippineculturalcenter.org/event/wellness-afternoon/2027-02-24/
LOCATION:Kauai Philippine Cultural Center\, 4475f Nuhou St\, Lihue\, HI\, 96766\, United States
CATEGORIES:Exercise Class
ATTACH;FMTTYPE=image/jpeg:https://kauaiphilippineculturalcenter.org/wp-content/uploads/2025/11/4070082565064109083.jpg
END:VEVENT
BEGIN:VEVENT
DTSTART;TZID=Pacific/Honolulu:20270224T173000
DTEND;TZID=Pacific/Honolulu:20270224T183000
DTSTAMP:20260420T150622
CREATED:20250604T215102Z
LAST-MODIFIED:20250604T220903Z
UID:10000100-1803490200-1803493800@kauaiphilippineculturalcenter.org
SUMMARY:Zumba
DESCRIPTION:Zumba\nJoin us for Zumba every Wednesday from 5:30-6:30 p.m. at the Kaua’i Philippine Cultural Center. This class is offered by donation. A $5 donation is recommended. See you there!
URL:https://kauaiphilippineculturalcenter.org/event/zumba/2027-02-24/
LOCATION:Kauai Philippine Cultural Center\, 4475f Nuhou St\, Lihue\, HI\, 96766\, United States
CATEGORIES:Exercise Class
ATTACH;FMTTYPE=image/jpeg:https://kauaiphilippineculturalcenter.org/wp-content/uploads/2025/06/1000005257.jpg
END:VEVENT
END:VCALENDAR