BEGIN:VCALENDAR
VERSION:2.0
PRODID:-//Book Your Event at Kauai Philippine Cultural Center - ECPv6.13.1//NONSGML v1.0//EN
CALSCALE:GREGORIAN
METHOD:PUBLISH
X-ORIGINAL-URL:https://kauaiphilippineculturalcenter.org
X-WR-CALDESC:Events for Book Your Event at Kauai Philippine Cultural Center
REFRESH-INTERVAL;VALUE=DURATION:PT1H
X-Robots-Tag:noindex
X-PUBLISHED-TTL:PT1H
BEGIN:VTIMEZONE
TZID:Pacific/Honolulu
BEGIN:STANDARD
TZOFFSETFROM:-1000
TZOFFSETTO:-1000
TZNAME:HST
DTSTART:20250101T000000
END:STANDARD
END:VTIMEZONE
BEGIN:VTIMEZONE
TZID:UTC
BEGIN:STANDARD
TZOFFSETFROM:+0000
TZOFFSETTO:+0000
TZNAME:UTC
DTSTART:20240101T000000
END:STANDARD
END:VTIMEZONE
BEGIN:VEVENT
DTSTART;TZID=Pacific/Honolulu:20251022T173000
DTEND;TZID=Pacific/Honolulu:20251022T183000
DTSTAMP:20260420T195148
CREATED:20250604T215102Z
LAST-MODIFIED:20250604T220903Z
UID:10000030-1761154200-1761157800@kauaiphilippineculturalcenter.org
SUMMARY:Zumba
DESCRIPTION:Zumba\nJoin us for Zumba every Wednesday from 5:30-6:30 p.m. at the Kaua’i Philippine Cultural Center. This class is offered by donation. A $5 donation is recommended. See you there!
URL:https://kauaiphilippineculturalcenter.org/event/zumba/2025-10-22/
LOCATION:Kauai Philippine Cultural Center\, 4475f Nuhou St\, Lihue\, HI\, 96766\, United States
CATEGORIES:Exercise Class
ATTACH;FMTTYPE=image/jpeg:https://kauaiphilippineculturalcenter.org/wp-content/uploads/2025/06/1000005257.jpg
END:VEVENT
BEGIN:VEVENT
DTSTART;TZID=Pacific/Honolulu:20251015T173000
DTEND;TZID=Pacific/Honolulu:20251015T183000
DTSTAMP:20260420T195148
CREATED:20250604T215102Z
LAST-MODIFIED:20250604T220903Z
UID:10000029-1760549400-1760553000@kauaiphilippineculturalcenter.org
SUMMARY:Zumba
DESCRIPTION:Zumba\nJoin us for Zumba every Wednesday from 5:30-6:30 p.m. at the Kaua’i Philippine Cultural Center. This class is offered by donation. A $5 donation is recommended. See you there!
URL:https://kauaiphilippineculturalcenter.org/event/zumba/2025-10-15/
LOCATION:Kauai Philippine Cultural Center\, 4475f Nuhou St\, Lihue\, HI\, 96766\, United States
CATEGORIES:Exercise Class
ATTACH;FMTTYPE=image/jpeg:https://kauaiphilippineculturalcenter.org/wp-content/uploads/2025/06/1000005257.jpg
END:VEVENT
BEGIN:VEVENT
DTSTART;TZID=Pacific/Honolulu:20251008T173000
DTEND;TZID=Pacific/Honolulu:20251008T183000
DTSTAMP:20260420T195148
CREATED:20250604T215102Z
LAST-MODIFIED:20250604T220903Z
UID:10000028-1759944600-1759948200@kauaiphilippineculturalcenter.org
SUMMARY:Zumba
DESCRIPTION:Zumba\nJoin us for Zumba every Wednesday from 5:30-6:30 p.m. at the Kaua’i Philippine Cultural Center. This class is offered by donation. A $5 donation is recommended. See you there!
URL:https://kauaiphilippineculturalcenter.org/event/zumba/2025-10-08/
LOCATION:Kauai Philippine Cultural Center\, 4475f Nuhou St\, Lihue\, HI\, 96766\, United States
CATEGORIES:Exercise Class
ATTACH;FMTTYPE=image/jpeg:https://kauaiphilippineculturalcenter.org/wp-content/uploads/2025/06/1000005257.jpg
END:VEVENT
BEGIN:VEVENT
DTSTART;TZID=UTC:20251004T090000
DTEND;TZID=UTC:20251004T130000
DTSTAMP:20260420T195148
CREATED:20250922T213551Z
LAST-MODIFIED:20250922T213551Z
UID:10001056-1759568400-1759582800@kauaiphilippineculturalcenter.org
SUMMARY:Fire Prevention Week 2025
DESCRIPTION:Come join the Kauaʻi Fire Department for a Free Event on October 4\, 2025\, at the Kauaʻi Philippine Cultural Center\, 9 a.m. – 1 p.m. We will have Games\, Prizes\, Fire Trucks\, and Fire Education along with our partner agencies.
URL:https://kauaiphilippineculturalcenter.org/event/fire-prevention-week-2025/
LOCATION:Kauai Philippine Cultural Center\, 4475f Nuhou St\, Lihue\, HI\, 96766\, United States
ATTACH;FMTTYPE=image/jpeg:https://kauaiphilippineculturalcenter.org/wp-content/uploads/2025/09/546242049_18072455357136781_6619226700679757309_n.jpg
END:VEVENT
BEGIN:VEVENT
DTSTART;TZID=Pacific/Honolulu:20251001T173000
DTEND;TZID=Pacific/Honolulu:20251001T183000
DTSTAMP:20260420T195148
CREATED:20250604T215102Z
LAST-MODIFIED:20250604T220903Z
UID:10000027-1759339800-1759343400@kauaiphilippineculturalcenter.org
SUMMARY:Zumba
DESCRIPTION:Zumba\nJoin us for Zumba every Wednesday from 5:30-6:30 p.m. at the Kaua’i Philippine Cultural Center. This class is offered by donation. A $5 donation is recommended. See you there!
URL:https://kauaiphilippineculturalcenter.org/event/zumba/2025-10-01/
LOCATION:Kauai Philippine Cultural Center\, 4475f Nuhou St\, Lihue\, HI\, 96766\, United States
CATEGORIES:Exercise Class
ATTACH;FMTTYPE=image/jpeg:https://kauaiphilippineculturalcenter.org/wp-content/uploads/2025/06/1000005257.jpg
END:VEVENT
BEGIN:VEVENT
DTSTART;TZID=Pacific/Honolulu:20250924T173000
DTEND;TZID=Pacific/Honolulu:20250924T183000
DTSTAMP:20260420T195148
CREATED:20250604T215102Z
LAST-MODIFIED:20250604T220903Z
UID:10000026-1758735000-1758738600@kauaiphilippineculturalcenter.org
SUMMARY:Zumba
DESCRIPTION:Zumba\nJoin us for Zumba every Wednesday from 5:30-6:30 p.m. at the Kaua’i Philippine Cultural Center. This class is offered by donation. A $5 donation is recommended. See you there!
URL:https://kauaiphilippineculturalcenter.org/event/zumba/2025-09-24/
LOCATION:Kauai Philippine Cultural Center\, 4475f Nuhou St\, Lihue\, HI\, 96766\, United States
CATEGORIES:Exercise Class
ATTACH;FMTTYPE=image/jpeg:https://kauaiphilippineculturalcenter.org/wp-content/uploads/2025/06/1000005257.jpg
END:VEVENT
BEGIN:VEVENT
DTSTART;TZID=Pacific/Honolulu:20250917T173000
DTEND;TZID=Pacific/Honolulu:20250917T183000
DTSTAMP:20260420T195148
CREATED:20250604T215102Z
LAST-MODIFIED:20250604T220903Z
UID:10000025-1758130200-1758133800@kauaiphilippineculturalcenter.org
SUMMARY:Zumba
DESCRIPTION:Zumba\nJoin us for Zumba every Wednesday from 5:30-6:30 p.m. at the Kaua’i Philippine Cultural Center. This class is offered by donation. A $5 donation is recommended. See you there!
URL:https://kauaiphilippineculturalcenter.org/event/zumba/2025-09-17/
LOCATION:Kauai Philippine Cultural Center\, 4475f Nuhou St\, Lihue\, HI\, 96766\, United States
CATEGORIES:Exercise Class
ATTACH;FMTTYPE=image/jpeg:https://kauaiphilippineculturalcenter.org/wp-content/uploads/2025/06/1000005257.jpg
END:VEVENT
BEGIN:VEVENT
DTSTART;TZID=UTC:20250911T170000
DTEND;TZID=UTC:20250911T200000
DTSTAMP:20260420T195148
CREATED:20250904T072607Z
LAST-MODIFIED:20250904T072607Z
UID:10001055-1757610000-1757620800@kauaiphilippineculturalcenter.org
SUMMARY:Labor\, Power\, and the Hanapēpē Massacre
DESCRIPTION:Explore one of Hawaiʻi’s most tragic events with the research committee that rediscovered the mass grave of the combatants of the Battle of Hanapēpē. This event is free. \nFor more information call (808)652-2165 or email mike@barriocaptian.com.
URL:https://kauaiphilippineculturalcenter.org/event/labor-power-and-the-hanapepe-massacre/
LOCATION:Kauai Philippine Cultural Center\, 4475f Nuhou St\, Lihue\, HI\, 96766\, United States
ATTACH;FMTTYPE=image/jpeg:https://kauaiphilippineculturalcenter.org/wp-content/uploads/2025/09/7015584622557058712.jpg
END:VEVENT
BEGIN:VEVENT
DTSTART;TZID=Pacific/Honolulu:20250910T173000
DTEND;TZID=Pacific/Honolulu:20250910T183000
DTSTAMP:20260420T195148
CREATED:20250604T215102Z
LAST-MODIFIED:20250604T220903Z
UID:10000024-1757525400-1757529000@kauaiphilippineculturalcenter.org
SUMMARY:Zumba
DESCRIPTION:Zumba\nJoin us for Zumba every Wednesday from 5:30-6:30 p.m. at the Kaua’i Philippine Cultural Center. This class is offered by donation. A $5 donation is recommended. See you there!
URL:https://kauaiphilippineculturalcenter.org/event/zumba/2025-09-10/
LOCATION:Kauai Philippine Cultural Center\, 4475f Nuhou St\, Lihue\, HI\, 96766\, United States
CATEGORIES:Exercise Class
ATTACH;FMTTYPE=image/jpeg:https://kauaiphilippineculturalcenter.org/wp-content/uploads/2025/06/1000005257.jpg
END:VEVENT
BEGIN:VEVENT
DTSTART;TZID=Pacific/Honolulu:20250903T173000
DTEND;TZID=Pacific/Honolulu:20250903T183000
DTSTAMP:20260420T195148
CREATED:20250604T215102Z
LAST-MODIFIED:20250604T220903Z
UID:10000023-1756920600-1756924200@kauaiphilippineculturalcenter.org
SUMMARY:Zumba
DESCRIPTION:Zumba\nJoin us for Zumba every Wednesday from 5:30-6:30 p.m. at the Kaua’i Philippine Cultural Center. This class is offered by donation. A $5 donation is recommended. See you there!
URL:https://kauaiphilippineculturalcenter.org/event/zumba/2025-09-03/
LOCATION:Kauai Philippine Cultural Center\, 4475f Nuhou St\, Lihue\, HI\, 96766\, United States
CATEGORIES:Exercise Class
ATTACH;FMTTYPE=image/jpeg:https://kauaiphilippineculturalcenter.org/wp-content/uploads/2025/06/1000005257.jpg
END:VEVENT
BEGIN:VEVENT
DTSTART;TZID=Pacific/Honolulu:20250827T173000
DTEND;TZID=Pacific/Honolulu:20250827T183000
DTSTAMP:20260420T195148
CREATED:20250604T215102Z
LAST-MODIFIED:20250604T220903Z
UID:10000022-1756315800-1756319400@kauaiphilippineculturalcenter.org
SUMMARY:Zumba
DESCRIPTION:Zumba\nJoin us for Zumba every Wednesday from 5:30-6:30 p.m. at the Kaua’i Philippine Cultural Center. This class is offered by donation. A $5 donation is recommended. See you there!
URL:https://kauaiphilippineculturalcenter.org/event/zumba/2025-08-27/
LOCATION:Kauai Philippine Cultural Center\, 4475f Nuhou St\, Lihue\, HI\, 96766\, United States
CATEGORIES:Exercise Class
ATTACH;FMTTYPE=image/jpeg:https://kauaiphilippineculturalcenter.org/wp-content/uploads/2025/06/1000005257.jpg
END:VEVENT
BEGIN:VEVENT
DTSTART;TZID=Pacific/Honolulu:20250820T173000
DTEND;TZID=Pacific/Honolulu:20250820T183000
DTSTAMP:20260420T195148
CREATED:20250604T215102Z
LAST-MODIFIED:20250604T220903Z
UID:10000021-1755711000-1755714600@kauaiphilippineculturalcenter.org
SUMMARY:Zumba
DESCRIPTION:Zumba\nJoin us for Zumba every Wednesday from 5:30-6:30 p.m. at the Kaua’i Philippine Cultural Center. This class is offered by donation. A $5 donation is recommended. See you there!
URL:https://kauaiphilippineculturalcenter.org/event/zumba/2025-08-20/
LOCATION:Kauai Philippine Cultural Center\, 4475f Nuhou St\, Lihue\, HI\, 96766\, United States
CATEGORIES:Exercise Class
ATTACH;FMTTYPE=image/jpeg:https://kauaiphilippineculturalcenter.org/wp-content/uploads/2025/06/1000005257.jpg
END:VEVENT
BEGIN:VEVENT
DTSTART;TZID=Pacific/Honolulu:20250813T173000
DTEND;TZID=Pacific/Honolulu:20250813T183000
DTSTAMP:20260420T195148
CREATED:20250604T215102Z
LAST-MODIFIED:20250604T220903Z
UID:10000020-1755106200-1755109800@kauaiphilippineculturalcenter.org
SUMMARY:Zumba
DESCRIPTION:Zumba\nJoin us for Zumba every Wednesday from 5:30-6:30 p.m. at the Kaua’i Philippine Cultural Center. This class is offered by donation. A $5 donation is recommended. See you there!
URL:https://kauaiphilippineculturalcenter.org/event/zumba/2025-08-13/
LOCATION:Kauai Philippine Cultural Center\, 4475f Nuhou St\, Lihue\, HI\, 96766\, United States
CATEGORIES:Exercise Class
ATTACH;FMTTYPE=image/jpeg:https://kauaiphilippineculturalcenter.org/wp-content/uploads/2025/06/1000005257.jpg
END:VEVENT
BEGIN:VEVENT
DTSTART;TZID=Pacific/Honolulu:20250806T173000
DTEND;TZID=Pacific/Honolulu:20250806T183000
DTSTAMP:20260420T195148
CREATED:20250604T215102Z
LAST-MODIFIED:20250604T220903Z
UID:10000019-1754501400-1754505000@kauaiphilippineculturalcenter.org
SUMMARY:Zumba
DESCRIPTION:Zumba\nJoin us for Zumba every Wednesday from 5:30-6:30 p.m. at the Kaua’i Philippine Cultural Center. This class is offered by donation. A $5 donation is recommended. See you there!
URL:https://kauaiphilippineculturalcenter.org/event/zumba/2025-08-06/
LOCATION:Kauai Philippine Cultural Center\, 4475f Nuhou St\, Lihue\, HI\, 96766\, United States
CATEGORIES:Exercise Class
ATTACH;FMTTYPE=image/jpeg:https://kauaiphilippineculturalcenter.org/wp-content/uploads/2025/06/1000005257.jpg
END:VEVENT
BEGIN:VEVENT
DTSTART;TZID=Pacific/Honolulu:20250730T173000
DTEND;TZID=Pacific/Honolulu:20250730T183000
DTSTAMP:20260420T195148
CREATED:20250604T215102Z
LAST-MODIFIED:20250604T220903Z
UID:10000018-1753896600-1753900200@kauaiphilippineculturalcenter.org
SUMMARY:Zumba
DESCRIPTION:Zumba\nJoin us for Zumba every Wednesday from 5:30-6:30 p.m. at the Kaua’i Philippine Cultural Center. This class is offered by donation. A $5 donation is recommended. See you there!
URL:https://kauaiphilippineculturalcenter.org/event/zumba/2025-07-30/
LOCATION:Kauai Philippine Cultural Center\, 4475f Nuhou St\, Lihue\, HI\, 96766\, United States
CATEGORIES:Exercise Class
ATTACH;FMTTYPE=image/jpeg:https://kauaiphilippineculturalcenter.org/wp-content/uploads/2025/06/1000005257.jpg
END:VEVENT
BEGIN:VEVENT
DTSTART;TZID=Pacific/Honolulu:20250723T173000
DTEND;TZID=Pacific/Honolulu:20250723T183000
DTSTAMP:20260420T195148
CREATED:20250604T215102Z
LAST-MODIFIED:20250604T220903Z
UID:10000017-1753291800-1753295400@kauaiphilippineculturalcenter.org
SUMMARY:Zumba
DESCRIPTION:Zumba\nJoin us for Zumba every Wednesday from 5:30-6:30 p.m. at the Kaua’i Philippine Cultural Center. This class is offered by donation. A $5 donation is recommended. See you there!
URL:https://kauaiphilippineculturalcenter.org/event/zumba/2025-07-23/
LOCATION:Kauai Philippine Cultural Center\, 4475f Nuhou St\, Lihue\, HI\, 96766\, United States
CATEGORIES:Exercise Class
ATTACH;FMTTYPE=image/jpeg:https://kauaiphilippineculturalcenter.org/wp-content/uploads/2025/06/1000005257.jpg
END:VEVENT
BEGIN:VEVENT
DTSTART;TZID=Pacific/Honolulu:20250716T173000
DTEND;TZID=Pacific/Honolulu:20250716T183000
DTSTAMP:20260420T195148
CREATED:20250604T215102Z
LAST-MODIFIED:20250604T220903Z
UID:10000016-1752687000-1752690600@kauaiphilippineculturalcenter.org
SUMMARY:Zumba
DESCRIPTION:Zumba\nJoin us for Zumba every Wednesday from 5:30-6:30 p.m. at the Kaua’i Philippine Cultural Center. This class is offered by donation. A $5 donation is recommended. See you there!
URL:https://kauaiphilippineculturalcenter.org/event/zumba/2025-07-16/
LOCATION:Kauai Philippine Cultural Center\, 4475f Nuhou St\, Lihue\, HI\, 96766\, United States
CATEGORIES:Exercise Class
ATTACH;FMTTYPE=image/jpeg:https://kauaiphilippineculturalcenter.org/wp-content/uploads/2025/06/1000005257.jpg
END:VEVENT
BEGIN:VEVENT
DTSTART;TZID=Pacific/Honolulu:20250709T173000
DTEND;TZID=Pacific/Honolulu:20250709T183000
DTSTAMP:20260420T195148
CREATED:20250604T215102Z
LAST-MODIFIED:20250604T220903Z
UID:10000015-1752082200-1752085800@kauaiphilippineculturalcenter.org
SUMMARY:Zumba
DESCRIPTION:Zumba\nJoin us for Zumba every Wednesday from 5:30-6:30 p.m. at the Kaua’i Philippine Cultural Center. This class is offered by donation. A $5 donation is recommended. See you there!
URL:https://kauaiphilippineculturalcenter.org/event/zumba/2025-07-09/
LOCATION:Kauai Philippine Cultural Center\, 4475f Nuhou St\, Lihue\, HI\, 96766\, United States
CATEGORIES:Exercise Class
ATTACH;FMTTYPE=image/jpeg:https://kauaiphilippineculturalcenter.org/wp-content/uploads/2025/06/1000005257.jpg
END:VEVENT
BEGIN:VEVENT
DTSTART;TZID=Pacific/Honolulu:20250702T173000
DTEND;TZID=Pacific/Honolulu:20250702T183000
DTSTAMP:20260420T195148
CREATED:20250604T215102Z
LAST-MODIFIED:20250604T220903Z
UID:10000014-1751477400-1751481000@kauaiphilippineculturalcenter.org
SUMMARY:Zumba
DESCRIPTION:Zumba\nJoin us for Zumba every Wednesday from 5:30-6:30 p.m. at the Kaua’i Philippine Cultural Center. This class is offered by donation. A $5 donation is recommended. See you there!
URL:https://kauaiphilippineculturalcenter.org/event/zumba/2025-07-02/
LOCATION:Kauai Philippine Cultural Center\, 4475f Nuhou St\, Lihue\, HI\, 96766\, United States
CATEGORIES:Exercise Class
ATTACH;FMTTYPE=image/jpeg:https://kauaiphilippineculturalcenter.org/wp-content/uploads/2025/06/1000005257.jpg
END:VEVENT
BEGIN:VEVENT
DTSTART;TZID=Pacific/Honolulu:20250625T173000
DTEND;TZID=Pacific/Honolulu:20250625T183000
DTSTAMP:20260420T195148
CREATED:20250604T215102Z
LAST-MODIFIED:20250604T220903Z
UID:10000013-1750872600-1750876200@kauaiphilippineculturalcenter.org
SUMMARY:Zumba
DESCRIPTION:Zumba\nJoin us for Zumba every Wednesday from 5:30-6:30 p.m. at the Kaua’i Philippine Cultural Center. This class is offered by donation. A $5 donation is recommended. See you there!
URL:https://kauaiphilippineculturalcenter.org/event/zumba/2025-06-25/
LOCATION:Kauai Philippine Cultural Center\, 4475f Nuhou St\, Lihue\, HI\, 96766\, United States
CATEGORIES:Exercise Class
ATTACH;FMTTYPE=image/jpeg:https://kauaiphilippineculturalcenter.org/wp-content/uploads/2025/06/1000005257.jpg
END:VEVENT
BEGIN:VEVENT
DTSTART;TZID=Pacific/Honolulu:20250618T173000
DTEND;TZID=Pacific/Honolulu:20250618T183000
DTSTAMP:20260420T195148
CREATED:20250604T215102Z
LAST-MODIFIED:20250604T220903Z
UID:10000012-1750267800-1750271400@kauaiphilippineculturalcenter.org
SUMMARY:Zumba
DESCRIPTION:Zumba\nJoin us for Zumba every Wednesday from 5:30-6:30 p.m. at the Kaua’i Philippine Cultural Center. This class is offered by donation. A $5 donation is recommended. See you there!
URL:https://kauaiphilippineculturalcenter.org/event/zumba/2025-06-18/
LOCATION:Kauai Philippine Cultural Center\, 4475f Nuhou St\, Lihue\, HI\, 96766\, United States
CATEGORIES:Exercise Class
ATTACH;FMTTYPE=image/jpeg:https://kauaiphilippineculturalcenter.org/wp-content/uploads/2025/06/1000005257.jpg
END:VEVENT
BEGIN:VEVENT
DTSTART;TZID=Pacific/Honolulu:20250611T173000
DTEND;TZID=Pacific/Honolulu:20250611T183000
DTSTAMP:20260420T195148
CREATED:20250604T215102Z
LAST-MODIFIED:20250604T220903Z
UID:10000011-1749663000-1749666600@kauaiphilippineculturalcenter.org
SUMMARY:Zumba
DESCRIPTION:Zumba\nJoin us for Zumba every Wednesday from 5:30-6:30 p.m. at the Kaua’i Philippine Cultural Center. This class is offered by donation. A $5 donation is recommended. See you there!
URL:https://kauaiphilippineculturalcenter.org/event/zumba/2025-06-11/
LOCATION:Kauai Philippine Cultural Center\, 4475f Nuhou St\, Lihue\, HI\, 96766\, United States
CATEGORIES:Exercise Class
ATTACH;FMTTYPE=image/jpeg:https://kauaiphilippineculturalcenter.org/wp-content/uploads/2025/06/1000005257.jpg
END:VEVENT
BEGIN:VEVENT
DTSTART;TZID=Pacific/Honolulu:20250604T173000
DTEND;TZID=Pacific/Honolulu:20250604T183000
DTSTAMP:20260420T195148
CREATED:20250604T215102Z
LAST-MODIFIED:20250604T220903Z
UID:10000010-1749058200-1749061800@kauaiphilippineculturalcenter.org
SUMMARY:Zumba
DESCRIPTION:Zumba\nJoin us for Zumba every Wednesday from 5:30-6:30 p.m. at the Kaua’i Philippine Cultural Center. This class is offered by donation. A $5 donation is recommended. See you there!
URL:https://kauaiphilippineculturalcenter.org/event/zumba/2025-06-04/
LOCATION:Kauai Philippine Cultural Center\, 4475f Nuhou St\, Lihue\, HI\, 96766\, United States
CATEGORIES:Exercise Class
ATTACH;FMTTYPE=image/jpeg:https://kauaiphilippineculturalcenter.org/wp-content/uploads/2025/06/1000005257.jpg
END:VEVENT
BEGIN:VEVENT
DTSTART;TZID=UTC:20241214T180000
DTEND;TZID=UTC:20241214T180000
DTSTAMP:20260420T195148
CREATED:20241206T041609Z
LAST-MODIFIED:20241206T041734Z
UID:10000007-1734199200-1734199200@kauaiphilippineculturalcenter.org
SUMMARY:The Kauai Chorale's HOLIDAY HARMONY
DESCRIPTION:The Kauai Chorale’s HOLIDAY HARMONY \nDate: Saturday December 14\, 2024\nTime: 6:00 PM \nLocation: Kauai Philippine Cultural Center\, 4475F Nuhou Road\, Lihue\, HI \nJoin us for The Kauai Chorale’s HOLIDAY HARMONY concert at KPCC!  Come and see Joe Moore\, Artistic Director and Ben Nause\, Accompanist\, who will be presenting:  Deck the Hall\, O Holy Night\, Carol of the Bells\, The Hallelujah Chorus\, Hanukkah the Season of Light\, and more… and also featuring Island School’s Alaka’i Chorus & The Garden Island Ballet Academy. \nTickets are $20 available at kauaichorale.org & students are free \n 
URL:https://kauaiphilippineculturalcenter.org/event/the-kauai-chorales-holiday-harmony/
LOCATION:Kauai Philippine Cultural Center\, 4475f Nuhou St\, Lihue\, HI\, 96766\, United States
ATTACH;FMTTYPE=image/jpeg:https://kauaiphilippineculturalcenter.org/wp-content/uploads/2024/08/Kauai-Chorale-Flyer-12.14.24.jpg
ORGANIZER;CN="Wes Perreira":MAILTO:wes@hawaiifoodbankkauai.org
END:VEVENT
BEGIN:VEVENT
DTSTART;TZID=UTC:20241116T090000
DTEND;TZID=UTC:20241116T110000
DTSTAMP:20260420T195148
CREATED:20241027T005642Z
LAST-MODIFIED:20241027T014757Z
UID:10000006-1731747600-1731754800@kauaiphilippineculturalcenter.org
SUMMARY:HLTA & Hawaii Foodbank Thanksgiving Distribution
DESCRIPTION:Thanksgiving Food Distribution Event \nDate: November 16\, 2024\nTime: 9:00 AM – 11:00 AM\nLocation: Kauai Philippine Cultural Center\, 4475F Nuhou Road\, Lihue\, HI \nJoin us for a special Thanksgiving Food Distribution event hosted by the Hawaii Lodging & Tourism Authority (HLTA) and Hawaii Foodbank\, taking place at the Kauai Philippine Cultural Center. This drive-thru style event will offer a variety of food items to help families and individuals in need during the holiday season. \nWe welcome all employees and families in the visitor industry\, as well as anyone in the community experiencing food insecurity. Food will be distributed on a first-come\, first-served basis\, so please plan to arrive early. \nSponsors: \n\nHawaii Lodging & Tourism Authority\nHawaii Foodbank\nKauai Philippine Cultural Center\n\nThe Hawaii Foodbank is an equal opportunity provider. For additional information on food assistance\, visit our https://kauai.hawaiifoodbank.org/. \nContact Information:\nTisha Remigio\nPhone: 808-977-7808\nEmail: tisha@hawaiifoodbankkauai.org \n  \n 
URL:https://kauaiphilippineculturalcenter.org/event/hlta-hawaii-foodbank-thanksgiving-distribution/
LOCATION:Kauai Philippine Cultural Center\, 4475f Nuhou St\, Lihue\, HI\, 96766\, United States
ATTACH;FMTTYPE=image/png:https://kauaiphilippineculturalcenter.org/wp-content/uploads/2024/10/Thanksgiving-Food-Distribution-Flyer-10.26.24.png
ORGANIZER;CN="Wes Perreira":MAILTO:wes@hawaiifoodbankkauai.org
END:VEVENT
BEGIN:VEVENT
DTSTART;TZID=UTC:20241019T100000
DTEND;TZID=UTC:20241019T180000
DTSTAMP:20260420T195148
CREATED:20240829T030036Z
LAST-MODIFIED:20240829T030036Z
UID:10000003-1729332000-1729360800@kauaiphilippineculturalcenter.org
SUMMARY:Kauai Filipino American History Month Celebration - Day 2
DESCRIPTION:Join us on October 18th and 19th at the Kauai Philippine Cultural Center for a vibrant celebration of Filipino American history\, culture\, and community. This event is open to the public and visitors are warmly welcomed. \nExplore our special exhibit featuring the history of Filipino migration to Hawaii and Kauai\, the Sakada\, stories of notable Hawaii Filipinos\, and fascinating artifacts. Engage in a presentation on Filipino oral history and enjoy a dessert sampling by Chef Orly. Local vendors\, cultural dancers\, and musical performances will bring the celebration to life\, offering a rich tapestry of Filipino culture. \nDon’t miss our exciting Las Vegas donation drawing and many more activities designed to honor our past while shaping our future. \nEvent Dates & Times: \n\nOctober 18th: 10 AM – 8 PM\nOctober 19th: 10 AM – 6 PM\n\nLocation: Kauai Philippine Cultural Center\n“A Place for All” \nAdmission: \n\n$10 per person\nFree for those 17 years old and under\n\nAll event proceeds help support cultural programming for public benefit. Come\, celebrate with us\, and be a part of this significant cultural gathering! \nFor more information\, contact:\nMilani Pimentel: 808-634-1027\nSonia Topenio: 808-652-2499\nEmail: kpcc2020@gmail.com
URL:https://kauaiphilippineculturalcenter.org/event/kauai-filipino-american-history-month-celebration-day-2/
LOCATION:Kauai Philippine Cultural Center\, 4475f Nuhou St\, Lihue\, HI\, 96766\, United States
ATTACH;FMTTYPE=image/jpeg:https://kauaiphilippineculturalcenter.org/wp-content/uploads/2024/08/Kauai-Filipino-American-History-Month.jpeg
ORGANIZER;CN="Wes Perreira":MAILTO:wes@hawaiifoodbankkauai.org
END:VEVENT
BEGIN:VEVENT
DTSTART;TZID=UTC:20241018T100000
DTEND;TZID=UTC:20241018T200000
DTSTAMP:20260420T195148
CREATED:20240829T025936Z
LAST-MODIFIED:20240829T025936Z
UID:10000002-1729245600-1729281600@kauaiphilippineculturalcenter.org
SUMMARY:Kauai Filipino American History Month Celebration - Day 1
DESCRIPTION:Join us on October 18th and 19th at the Kauai Philippine Cultural Center for a vibrant celebration of Filipino American history\, culture\, and community. This event is open to the public and visitors are warmly welcomed. \nExplore our special exhibit featuring the history of Filipino migration to Hawaii and Kauai\, the Sakada\, stories of notable Hawaii Filipinos\, and fascinating artifacts. Engage in a presentation on Filipino oral history and enjoy a dessert sampling by Chef Orly. Local vendors\, cultural dancers\, and musical performances will bring the celebration to life\, offering a rich tapestry of Filipino culture. \nDon’t miss our exciting Las Vegas donation drawing and many more activities designed to honor our past while shaping our future. \nEvent Dates & Times: \n\nOctober 18th: 10 AM – 8 PM\nOctober 19th: 10 AM – 6 PM\n\nLocation: Kauai Philippine Cultural Center\n“A Place for All” \nAdmission: \n\n$10 per person\nFree for those 17 years old and under\n\nAll event proceeds help support cultural programming for public benefit. Come\, celebrate with us\, and be a part of this significant cultural gathering! \nFor more information\, contact:\nMilani Pimentel: 808-634-1027\nSonia Topenio: 808-652-2499\nEmail: kpcc2020@gmail.com
URL:https://kauaiphilippineculturalcenter.org/event/kauai-filipino-american-history-month-celebration-day-1/
LOCATION:Kauai Philippine Cultural Center\, 4475f Nuhou St\, Lihue\, HI\, 96766\, United States
ATTACH;FMTTYPE=image/jpeg:https://kauaiphilippineculturalcenter.org/wp-content/uploads/2024/08/Kauai-Filipino-American-History-Month.jpeg
ORGANIZER;CN="Wes Perreira":MAILTO:wes@hawaiifoodbankkauai.org
END:VEVENT
END:VCALENDAR