BEGIN:VCALENDAR
VERSION:2.0
PRODID:-//Book Your Event at Kauai Philippine Cultural Center - ECPv6.13.1//NONSGML v1.0//EN
CALSCALE:GREGORIAN
METHOD:PUBLISH
X-WR-CALNAME:Book Your Event at Kauai Philippine Cultural Center
X-ORIGINAL-URL:https://kauaiphilippineculturalcenter.org
X-WR-CALDESC:Events for Book Your Event at Kauai Philippine Cultural Center
REFRESH-INTERVAL;VALUE=DURATION:PT1H
X-Robots-Tag:noindex
X-PUBLISHED-TTL:PT1H
BEGIN:VTIMEZONE
TZID:UTC
BEGIN:STANDARD
TZOFFSETFROM:+0000
TZOFFSETTO:+0000
TZNAME:UTC
DTSTART:20250101T000000
END:STANDARD
END:VTIMEZONE
BEGIN:VTIMEZONE
TZID:Pacific/Honolulu
BEGIN:STANDARD
TZOFFSETFROM:-1000
TZOFFSETTO:-1000
TZNAME:HST
DTSTART:20250101T000000
END:STANDARD
END:VTIMEZONE
BEGIN:VEVENT
DTSTART;TZID=UTC:20260107T151500
DTEND;TZID=UTC:20260107T170000
DTSTAMP:20260420T123316
CREATED:20251104T004832Z
LAST-MODIFIED:20251104T004832Z
UID:10001066-1767798900-1767805200@kauaiphilippineculturalcenter.org
SUMMARY:Wellness Afternoon
DESCRIPTION:Mindfulness for Stress Reduction \nChair Yoga & Qigong Flow \nLearn mindful practices to help you find peace and calm. \nDonation based.
URL:https://kauaiphilippineculturalcenter.org/event/wellness-afternoon/2026-01-07/
LOCATION:Kauai Philippine Cultural Center\, 4475f Nuhou St\, Lihue\, HI\, 96766\, United States
CATEGORIES:Exercise Class
ATTACH;FMTTYPE=image/jpeg:https://kauaiphilippineculturalcenter.org/wp-content/uploads/2025/11/4070082565064109083.jpg
END:VEVENT
BEGIN:VEVENT
DTSTART;TZID=Pacific/Honolulu:20251231T173000
DTEND;TZID=Pacific/Honolulu:20251231T183000
DTSTAMP:20260420T123316
CREATED:20250604T215102Z
LAST-MODIFIED:20250604T220903Z
UID:10000040-1767202200-1767205800@kauaiphilippineculturalcenter.org
SUMMARY:Zumba
DESCRIPTION:Zumba\nJoin us for Zumba every Wednesday from 5:30-6:30 p.m. at the Kaua’i Philippine Cultural Center. This class is offered by donation. A $5 donation is recommended. See you there!
URL:https://kauaiphilippineculturalcenter.org/event/zumba/2025-12-31/
LOCATION:Kauai Philippine Cultural Center\, 4475f Nuhou St\, Lihue\, HI\, 96766\, United States
CATEGORIES:Exercise Class
ATTACH;FMTTYPE=image/jpeg:https://kauaiphilippineculturalcenter.org/wp-content/uploads/2025/06/1000005257.jpg
END:VEVENT
BEGIN:VEVENT
DTSTART;TZID=UTC:20251231T151500
DTEND;TZID=UTC:20251231T170000
DTSTAMP:20260420T123316
CREATED:20251104T004832Z
LAST-MODIFIED:20251104T004832Z
UID:10001065-1767194100-1767200400@kauaiphilippineculturalcenter.org
SUMMARY:Wellness Afternoon
DESCRIPTION:Mindfulness for Stress Reduction \nChair Yoga & Qigong Flow \nLearn mindful practices to help you find peace and calm. \nDonation based.
URL:https://kauaiphilippineculturalcenter.org/event/wellness-afternoon/2025-12-31/
LOCATION:Kauai Philippine Cultural Center\, 4475f Nuhou St\, Lihue\, HI\, 96766\, United States
CATEGORIES:Exercise Class
ATTACH;FMTTYPE=image/jpeg:https://kauaiphilippineculturalcenter.org/wp-content/uploads/2025/11/4070082565064109083.jpg
END:VEVENT
BEGIN:VEVENT
DTSTART;TZID=Pacific/Honolulu:20251224T173000
DTEND;TZID=Pacific/Honolulu:20251224T183000
DTSTAMP:20260420T123316
CREATED:20250604T215102Z
LAST-MODIFIED:20250604T220903Z
UID:10000039-1766597400-1766601000@kauaiphilippineculturalcenter.org
SUMMARY:Zumba
DESCRIPTION:Zumba\nJoin us for Zumba every Wednesday from 5:30-6:30 p.m. at the Kaua’i Philippine Cultural Center. This class is offered by donation. A $5 donation is recommended. See you there!
URL:https://kauaiphilippineculturalcenter.org/event/zumba/2025-12-24/
LOCATION:Kauai Philippine Cultural Center\, 4475f Nuhou St\, Lihue\, HI\, 96766\, United States
CATEGORIES:Exercise Class
ATTACH;FMTTYPE=image/jpeg:https://kauaiphilippineculturalcenter.org/wp-content/uploads/2025/06/1000005257.jpg
END:VEVENT
BEGIN:VEVENT
DTSTART;TZID=UTC:20251224T151500
DTEND;TZID=UTC:20251224T170000
DTSTAMP:20260420T123316
CREATED:20251104T004832Z
LAST-MODIFIED:20251104T004832Z
UID:10001064-1766589300-1766595600@kauaiphilippineculturalcenter.org
SUMMARY:Wellness Afternoon
DESCRIPTION:Mindfulness for Stress Reduction \nChair Yoga & Qigong Flow \nLearn mindful practices to help you find peace and calm. \nDonation based.
URL:https://kauaiphilippineculturalcenter.org/event/wellness-afternoon/2025-12-24/
LOCATION:Kauai Philippine Cultural Center\, 4475f Nuhou St\, Lihue\, HI\, 96766\, United States
CATEGORIES:Exercise Class
ATTACH;FMTTYPE=image/jpeg:https://kauaiphilippineculturalcenter.org/wp-content/uploads/2025/11/4070082565064109083.jpg
END:VEVENT
BEGIN:VEVENT
DTSTART;TZID=Pacific/Honolulu:20251217T173000
DTEND;TZID=Pacific/Honolulu:20251217T183000
DTSTAMP:20260420T123316
CREATED:20250604T215102Z
LAST-MODIFIED:20250604T220903Z
UID:10000038-1765992600-1765996200@kauaiphilippineculturalcenter.org
SUMMARY:Zumba
DESCRIPTION:Zumba\nJoin us for Zumba every Wednesday from 5:30-6:30 p.m. at the Kaua’i Philippine Cultural Center. This class is offered by donation. A $5 donation is recommended. See you there!
URL:https://kauaiphilippineculturalcenter.org/event/zumba/2025-12-17/
LOCATION:Kauai Philippine Cultural Center\, 4475f Nuhou St\, Lihue\, HI\, 96766\, United States
CATEGORIES:Exercise Class
ATTACH;FMTTYPE=image/jpeg:https://kauaiphilippineculturalcenter.org/wp-content/uploads/2025/06/1000005257.jpg
END:VEVENT
BEGIN:VEVENT
DTSTART;TZID=UTC:20251217T151500
DTEND;TZID=UTC:20251217T170000
DTSTAMP:20260420T123316
CREATED:20251104T004832Z
LAST-MODIFIED:20251104T004832Z
UID:10001063-1765984500-1765990800@kauaiphilippineculturalcenter.org
SUMMARY:Wellness Afternoon
DESCRIPTION:Mindfulness for Stress Reduction \nChair Yoga & Qigong Flow \nLearn mindful practices to help you find peace and calm. \nDonation based.
URL:https://kauaiphilippineculturalcenter.org/event/wellness-afternoon/2025-12-17/
LOCATION:Kauai Philippine Cultural Center\, 4475f Nuhou St\, Lihue\, HI\, 96766\, United States
CATEGORIES:Exercise Class
ATTACH;FMTTYPE=image/jpeg:https://kauaiphilippineculturalcenter.org/wp-content/uploads/2025/11/4070082565064109083.jpg
END:VEVENT
BEGIN:VEVENT
DTSTART;TZID=Pacific/Honolulu:20251210T173000
DTEND;TZID=Pacific/Honolulu:20251210T183000
DTSTAMP:20260420T123316
CREATED:20250604T215102Z
LAST-MODIFIED:20250604T220903Z
UID:10000037-1765387800-1765391400@kauaiphilippineculturalcenter.org
SUMMARY:Zumba
DESCRIPTION:Zumba\nJoin us for Zumba every Wednesday from 5:30-6:30 p.m. at the Kaua’i Philippine Cultural Center. This class is offered by donation. A $5 donation is recommended. See you there!
URL:https://kauaiphilippineculturalcenter.org/event/zumba/2025-12-10/
LOCATION:Kauai Philippine Cultural Center\, 4475f Nuhou St\, Lihue\, HI\, 96766\, United States
CATEGORIES:Exercise Class
ATTACH;FMTTYPE=image/jpeg:https://kauaiphilippineculturalcenter.org/wp-content/uploads/2025/06/1000005257.jpg
END:VEVENT
BEGIN:VEVENT
DTSTART;TZID=UTC:20251210T151500
DTEND;TZID=UTC:20251210T170000
DTSTAMP:20260420T123316
CREATED:20251104T004832Z
LAST-MODIFIED:20251104T004832Z
UID:10001062-1765379700-1765386000@kauaiphilippineculturalcenter.org
SUMMARY:Wellness Afternoon
DESCRIPTION:Mindfulness for Stress Reduction \nChair Yoga & Qigong Flow \nLearn mindful practices to help you find peace and calm. \nDonation based.
URL:https://kauaiphilippineculturalcenter.org/event/wellness-afternoon/2025-12-10/
LOCATION:Kauai Philippine Cultural Center\, 4475f Nuhou St\, Lihue\, HI\, 96766\, United States
CATEGORIES:Exercise Class
ATTACH;FMTTYPE=image/jpeg:https://kauaiphilippineculturalcenter.org/wp-content/uploads/2025/11/4070082565064109083.jpg
END:VEVENT
BEGIN:VEVENT
DTSTART;TZID=Pacific/Honolulu:20251203T173000
DTEND;TZID=Pacific/Honolulu:20251203T183000
DTSTAMP:20260420T123316
CREATED:20250604T215102Z
LAST-MODIFIED:20250604T220903Z
UID:10000036-1764783000-1764786600@kauaiphilippineculturalcenter.org
SUMMARY:Zumba
DESCRIPTION:Zumba\nJoin us for Zumba every Wednesday from 5:30-6:30 p.m. at the Kaua’i Philippine Cultural Center. This class is offered by donation. A $5 donation is recommended. See you there!
URL:https://kauaiphilippineculturalcenter.org/event/zumba/2025-12-03/
LOCATION:Kauai Philippine Cultural Center\, 4475f Nuhou St\, Lihue\, HI\, 96766\, United States
CATEGORIES:Exercise Class
ATTACH;FMTTYPE=image/jpeg:https://kauaiphilippineculturalcenter.org/wp-content/uploads/2025/06/1000005257.jpg
END:VEVENT
BEGIN:VEVENT
DTSTART;TZID=UTC:20251203T151500
DTEND;TZID=UTC:20251203T170000
DTSTAMP:20260420T123316
CREATED:20251104T004832Z
LAST-MODIFIED:20251104T004832Z
UID:10001061-1764774900-1764781200@kauaiphilippineculturalcenter.org
SUMMARY:Wellness Afternoon
DESCRIPTION:Mindfulness for Stress Reduction \nChair Yoga & Qigong Flow \nLearn mindful practices to help you find peace and calm. \nDonation based.
URL:https://kauaiphilippineculturalcenter.org/event/wellness-afternoon/2025-12-03/
LOCATION:Kauai Philippine Cultural Center\, 4475f Nuhou St\, Lihue\, HI\, 96766\, United States
CATEGORIES:Exercise Class
ATTACH;FMTTYPE=image/jpeg:https://kauaiphilippineculturalcenter.org/wp-content/uploads/2025/11/4070082565064109083.jpg
END:VEVENT
BEGIN:VEVENT
DTSTART;TZID=Pacific/Honolulu:20251126T173000
DTEND;TZID=Pacific/Honolulu:20251126T183000
DTSTAMP:20260420T123316
CREATED:20250604T215102Z
LAST-MODIFIED:20250604T220903Z
UID:10000035-1764178200-1764181800@kauaiphilippineculturalcenter.org
SUMMARY:Zumba
DESCRIPTION:Zumba\nJoin us for Zumba every Wednesday from 5:30-6:30 p.m. at the Kaua’i Philippine Cultural Center. This class is offered by donation. A $5 donation is recommended. See you there!
URL:https://kauaiphilippineculturalcenter.org/event/zumba/2025-11-26/
LOCATION:Kauai Philippine Cultural Center\, 4475f Nuhou St\, Lihue\, HI\, 96766\, United States
CATEGORIES:Exercise Class
ATTACH;FMTTYPE=image/jpeg:https://kauaiphilippineculturalcenter.org/wp-content/uploads/2025/06/1000005257.jpg
END:VEVENT
BEGIN:VEVENT
DTSTART;TZID=UTC:20251126T151500
DTEND;TZID=UTC:20251126T170000
DTSTAMP:20260420T123316
CREATED:20251104T004832Z
LAST-MODIFIED:20251104T004832Z
UID:10001060-1764170100-1764176400@kauaiphilippineculturalcenter.org
SUMMARY:Wellness Afternoon
DESCRIPTION:Mindfulness for Stress Reduction \nChair Yoga & Qigong Flow \nLearn mindful practices to help you find peace and calm. \nDonation based.
URL:https://kauaiphilippineculturalcenter.org/event/wellness-afternoon/2025-11-26/
LOCATION:Kauai Philippine Cultural Center\, 4475f Nuhou St\, Lihue\, HI\, 96766\, United States
CATEGORIES:Exercise Class
ATTACH;FMTTYPE=image/jpeg:https://kauaiphilippineculturalcenter.org/wp-content/uploads/2025/11/4070082565064109083.jpg
END:VEVENT
BEGIN:VEVENT
DTSTART;TZID=Pacific/Honolulu:20251119T173000
DTEND;TZID=Pacific/Honolulu:20251119T183000
DTSTAMP:20260420T123316
CREATED:20250604T215102Z
LAST-MODIFIED:20250604T220903Z
UID:10000034-1763573400-1763577000@kauaiphilippineculturalcenter.org
SUMMARY:Zumba
DESCRIPTION:Zumba\nJoin us for Zumba every Wednesday from 5:30-6:30 p.m. at the Kaua’i Philippine Cultural Center. This class is offered by donation. A $5 donation is recommended. See you there!
URL:https://kauaiphilippineculturalcenter.org/event/zumba/2025-11-19/
LOCATION:Kauai Philippine Cultural Center\, 4475f Nuhou St\, Lihue\, HI\, 96766\, United States
CATEGORIES:Exercise Class
ATTACH;FMTTYPE=image/jpeg:https://kauaiphilippineculturalcenter.org/wp-content/uploads/2025/06/1000005257.jpg
END:VEVENT
BEGIN:VEVENT
DTSTART;TZID=UTC:20251119T151500
DTEND;TZID=UTC:20251119T170000
DTSTAMP:20260420T123316
CREATED:20251104T004832Z
LAST-MODIFIED:20251104T004832Z
UID:10001059-1763565300-1763571600@kauaiphilippineculturalcenter.org
SUMMARY:Wellness Afternoon
DESCRIPTION:Mindfulness for Stress Reduction \nChair Yoga & Qigong Flow \nLearn mindful practices to help you find peace and calm. \nDonation based.
URL:https://kauaiphilippineculturalcenter.org/event/wellness-afternoon/2025-11-19/
LOCATION:Kauai Philippine Cultural Center\, 4475f Nuhou St\, Lihue\, HI\, 96766\, United States
CATEGORIES:Exercise Class
ATTACH;FMTTYPE=image/jpeg:https://kauaiphilippineculturalcenter.org/wp-content/uploads/2025/11/4070082565064109083.jpg
END:VEVENT
BEGIN:VEVENT
DTSTART;TZID=Pacific/Honolulu:20251112T173000
DTEND;TZID=Pacific/Honolulu:20251112T183000
DTSTAMP:20260420T123316
CREATED:20250604T215102Z
LAST-MODIFIED:20250604T220903Z
UID:10000033-1762968600-1762972200@kauaiphilippineculturalcenter.org
SUMMARY:Zumba
DESCRIPTION:Zumba\nJoin us for Zumba every Wednesday from 5:30-6:30 p.m. at the Kaua’i Philippine Cultural Center. This class is offered by donation. A $5 donation is recommended. See you there!
URL:https://kauaiphilippineculturalcenter.org/event/zumba/2025-11-12/
LOCATION:Kauai Philippine Cultural Center\, 4475f Nuhou St\, Lihue\, HI\, 96766\, United States
CATEGORIES:Exercise Class
ATTACH;FMTTYPE=image/jpeg:https://kauaiphilippineculturalcenter.org/wp-content/uploads/2025/06/1000005257.jpg
END:VEVENT
BEGIN:VEVENT
DTSTART;TZID=UTC:20251112T151500
DTEND;TZID=UTC:20251112T170000
DTSTAMP:20260420T123316
CREATED:20251104T004832Z
LAST-MODIFIED:20251104T004832Z
UID:10001058-1762960500-1762966800@kauaiphilippineculturalcenter.org
SUMMARY:Wellness Afternoon
DESCRIPTION:Mindfulness for Stress Reduction \nChair Yoga & Qigong Flow \nLearn mindful practices to help you find peace and calm. \nDonation based.
URL:https://kauaiphilippineculturalcenter.org/event/wellness-afternoon/2025-11-12/
LOCATION:Kauai Philippine Cultural Center\, 4475f Nuhou St\, Lihue\, HI\, 96766\, United States
CATEGORIES:Exercise Class
ATTACH;FMTTYPE=image/jpeg:https://kauaiphilippineculturalcenter.org/wp-content/uploads/2025/11/4070082565064109083.jpg
END:VEVENT
BEGIN:VEVENT
DTSTART;TZID=Pacific/Honolulu:20251105T173000
DTEND;TZID=Pacific/Honolulu:20251105T183000
DTSTAMP:20260420T123316
CREATED:20250604T215102Z
LAST-MODIFIED:20250604T220903Z
UID:10000032-1762363800-1762367400@kauaiphilippineculturalcenter.org
SUMMARY:Zumba
DESCRIPTION:Zumba\nJoin us for Zumba every Wednesday from 5:30-6:30 p.m. at the Kaua’i Philippine Cultural Center. This class is offered by donation. A $5 donation is recommended. See you there!
URL:https://kauaiphilippineculturalcenter.org/event/zumba/2025-11-05/
LOCATION:Kauai Philippine Cultural Center\, 4475f Nuhou St\, Lihue\, HI\, 96766\, United States
CATEGORIES:Exercise Class
ATTACH;FMTTYPE=image/jpeg:https://kauaiphilippineculturalcenter.org/wp-content/uploads/2025/06/1000005257.jpg
END:VEVENT
BEGIN:VEVENT
DTSTART;TZID=UTC:20251105T151500
DTEND;TZID=UTC:20251105T170000
DTSTAMP:20260420T123316
CREATED:20251104T004832Z
LAST-MODIFIED:20251104T004832Z
UID:10001057-1762355700-1762362000@kauaiphilippineculturalcenter.org
SUMMARY:Wellness Afternoon
DESCRIPTION:Mindfulness for Stress Reduction \nChair Yoga & Qigong Flow \nLearn mindful practices to help you find peace and calm. \nDonation based.
URL:https://kauaiphilippineculturalcenter.org/event/wellness-afternoon/2025-11-05/
LOCATION:Kauai Philippine Cultural Center\, 4475f Nuhou St\, Lihue\, HI\, 96766\, United States
CATEGORIES:Exercise Class
ATTACH;FMTTYPE=image/jpeg:https://kauaiphilippineculturalcenter.org/wp-content/uploads/2025/11/4070082565064109083.jpg
END:VEVENT
BEGIN:VEVENT
DTSTART;TZID=Pacific/Honolulu:20251029T173000
DTEND;TZID=Pacific/Honolulu:20251029T183000
DTSTAMP:20260420T123316
CREATED:20250604T215102Z
LAST-MODIFIED:20250604T220903Z
UID:10000031-1761759000-1761762600@kauaiphilippineculturalcenter.org
SUMMARY:Zumba
DESCRIPTION:Zumba\nJoin us for Zumba every Wednesday from 5:30-6:30 p.m. at the Kaua’i Philippine Cultural Center. This class is offered by donation. A $5 donation is recommended. See you there!
URL:https://kauaiphilippineculturalcenter.org/event/zumba/2025-10-29/
LOCATION:Kauai Philippine Cultural Center\, 4475f Nuhou St\, Lihue\, HI\, 96766\, United States
CATEGORIES:Exercise Class
ATTACH;FMTTYPE=image/jpeg:https://kauaiphilippineculturalcenter.org/wp-content/uploads/2025/06/1000005257.jpg
END:VEVENT
BEGIN:VEVENT
DTSTART;TZID=Pacific/Honolulu:20251022T173000
DTEND;TZID=Pacific/Honolulu:20251022T183000
DTSTAMP:20260420T123316
CREATED:20250604T215102Z
LAST-MODIFIED:20250604T220903Z
UID:10000030-1761154200-1761157800@kauaiphilippineculturalcenter.org
SUMMARY:Zumba
DESCRIPTION:Zumba\nJoin us for Zumba every Wednesday from 5:30-6:30 p.m. at the Kaua’i Philippine Cultural Center. This class is offered by donation. A $5 donation is recommended. See you there!
URL:https://kauaiphilippineculturalcenter.org/event/zumba/2025-10-22/
LOCATION:Kauai Philippine Cultural Center\, 4475f Nuhou St\, Lihue\, HI\, 96766\, United States
CATEGORIES:Exercise Class
ATTACH;FMTTYPE=image/jpeg:https://kauaiphilippineculturalcenter.org/wp-content/uploads/2025/06/1000005257.jpg
END:VEVENT
BEGIN:VEVENT
DTSTART;TZID=Pacific/Honolulu:20251015T173000
DTEND;TZID=Pacific/Honolulu:20251015T183000
DTSTAMP:20260420T123316
CREATED:20250604T215102Z
LAST-MODIFIED:20250604T220903Z
UID:10000029-1760549400-1760553000@kauaiphilippineculturalcenter.org
SUMMARY:Zumba
DESCRIPTION:Zumba\nJoin us for Zumba every Wednesday from 5:30-6:30 p.m. at the Kaua’i Philippine Cultural Center. This class is offered by donation. A $5 donation is recommended. See you there!
URL:https://kauaiphilippineculturalcenter.org/event/zumba/2025-10-15/
LOCATION:Kauai Philippine Cultural Center\, 4475f Nuhou St\, Lihue\, HI\, 96766\, United States
CATEGORIES:Exercise Class
ATTACH;FMTTYPE=image/jpeg:https://kauaiphilippineculturalcenter.org/wp-content/uploads/2025/06/1000005257.jpg
END:VEVENT
BEGIN:VEVENT
DTSTART;TZID=Pacific/Honolulu:20251008T173000
DTEND;TZID=Pacific/Honolulu:20251008T183000
DTSTAMP:20260420T123316
CREATED:20250604T215102Z
LAST-MODIFIED:20250604T220903Z
UID:10000028-1759944600-1759948200@kauaiphilippineculturalcenter.org
SUMMARY:Zumba
DESCRIPTION:Zumba\nJoin us for Zumba every Wednesday from 5:30-6:30 p.m. at the Kaua’i Philippine Cultural Center. This class is offered by donation. A $5 donation is recommended. See you there!
URL:https://kauaiphilippineculturalcenter.org/event/zumba/2025-10-08/
LOCATION:Kauai Philippine Cultural Center\, 4475f Nuhou St\, Lihue\, HI\, 96766\, United States
CATEGORIES:Exercise Class
ATTACH;FMTTYPE=image/jpeg:https://kauaiphilippineculturalcenter.org/wp-content/uploads/2025/06/1000005257.jpg
END:VEVENT
BEGIN:VEVENT
DTSTART;TZID=UTC:20251004T090000
DTEND;TZID=UTC:20251004T130000
DTSTAMP:20260420T123316
CREATED:20250922T213551Z
LAST-MODIFIED:20250922T213551Z
UID:10001056-1759568400-1759582800@kauaiphilippineculturalcenter.org
SUMMARY:Fire Prevention Week 2025
DESCRIPTION:Come join the Kauaʻi Fire Department for a Free Event on October 4\, 2025\, at the Kauaʻi Philippine Cultural Center\, 9 a.m. – 1 p.m. We will have Games\, Prizes\, Fire Trucks\, and Fire Education along with our partner agencies.
URL:https://kauaiphilippineculturalcenter.org/event/fire-prevention-week-2025/
LOCATION:Kauai Philippine Cultural Center\, 4475f Nuhou St\, Lihue\, HI\, 96766\, United States
ATTACH;FMTTYPE=image/jpeg:https://kauaiphilippineculturalcenter.org/wp-content/uploads/2025/09/546242049_18072455357136781_6619226700679757309_n.jpg
END:VEVENT
BEGIN:VEVENT
DTSTART;TZID=Pacific/Honolulu:20251001T173000
DTEND;TZID=Pacific/Honolulu:20251001T183000
DTSTAMP:20260420T123316
CREATED:20250604T215102Z
LAST-MODIFIED:20250604T220903Z
UID:10000027-1759339800-1759343400@kauaiphilippineculturalcenter.org
SUMMARY:Zumba
DESCRIPTION:Zumba\nJoin us for Zumba every Wednesday from 5:30-6:30 p.m. at the Kaua’i Philippine Cultural Center. This class is offered by donation. A $5 donation is recommended. See you there!
URL:https://kauaiphilippineculturalcenter.org/event/zumba/2025-10-01/
LOCATION:Kauai Philippine Cultural Center\, 4475f Nuhou St\, Lihue\, HI\, 96766\, United States
CATEGORIES:Exercise Class
ATTACH;FMTTYPE=image/jpeg:https://kauaiphilippineculturalcenter.org/wp-content/uploads/2025/06/1000005257.jpg
END:VEVENT
BEGIN:VEVENT
DTSTART;TZID=Pacific/Honolulu:20250924T173000
DTEND;TZID=Pacific/Honolulu:20250924T183000
DTSTAMP:20260420T123316
CREATED:20250604T215102Z
LAST-MODIFIED:20250604T220903Z
UID:10000026-1758735000-1758738600@kauaiphilippineculturalcenter.org
SUMMARY:Zumba
DESCRIPTION:Zumba\nJoin us for Zumba every Wednesday from 5:30-6:30 p.m. at the Kaua’i Philippine Cultural Center. This class is offered by donation. A $5 donation is recommended. See you there!
URL:https://kauaiphilippineculturalcenter.org/event/zumba/2025-09-24/
LOCATION:Kauai Philippine Cultural Center\, 4475f Nuhou St\, Lihue\, HI\, 96766\, United States
CATEGORIES:Exercise Class
ATTACH;FMTTYPE=image/jpeg:https://kauaiphilippineculturalcenter.org/wp-content/uploads/2025/06/1000005257.jpg
END:VEVENT
BEGIN:VEVENT
DTSTART;TZID=Pacific/Honolulu:20250917T173000
DTEND;TZID=Pacific/Honolulu:20250917T183000
DTSTAMP:20260420T123316
CREATED:20250604T215102Z
LAST-MODIFIED:20250604T220903Z
UID:10000025-1758130200-1758133800@kauaiphilippineculturalcenter.org
SUMMARY:Zumba
DESCRIPTION:Zumba\nJoin us for Zumba every Wednesday from 5:30-6:30 p.m. at the Kaua’i Philippine Cultural Center. This class is offered by donation. A $5 donation is recommended. See you there!
URL:https://kauaiphilippineculturalcenter.org/event/zumba/2025-09-17/
LOCATION:Kauai Philippine Cultural Center\, 4475f Nuhou St\, Lihue\, HI\, 96766\, United States
CATEGORIES:Exercise Class
ATTACH;FMTTYPE=image/jpeg:https://kauaiphilippineculturalcenter.org/wp-content/uploads/2025/06/1000005257.jpg
END:VEVENT
BEGIN:VEVENT
DTSTART;TZID=UTC:20250911T170000
DTEND;TZID=UTC:20250911T200000
DTSTAMP:20260420T123316
CREATED:20250904T072607Z
LAST-MODIFIED:20250904T072607Z
UID:10001055-1757610000-1757620800@kauaiphilippineculturalcenter.org
SUMMARY:Labor\, Power\, and the Hanapēpē Massacre
DESCRIPTION:Explore one of Hawaiʻi’s most tragic events with the research committee that rediscovered the mass grave of the combatants of the Battle of Hanapēpē. This event is free. \nFor more information call (808)652-2165 or email mike@barriocaptian.com.
URL:https://kauaiphilippineculturalcenter.org/event/labor-power-and-the-hanapepe-massacre/
LOCATION:Kauai Philippine Cultural Center\, 4475f Nuhou St\, Lihue\, HI\, 96766\, United States
ATTACH;FMTTYPE=image/jpeg:https://kauaiphilippineculturalcenter.org/wp-content/uploads/2025/09/7015584622557058712.jpg
END:VEVENT
BEGIN:VEVENT
DTSTART;TZID=Pacific/Honolulu:20250910T173000
DTEND;TZID=Pacific/Honolulu:20250910T183000
DTSTAMP:20260420T123316
CREATED:20250604T215102Z
LAST-MODIFIED:20250604T220903Z
UID:10000024-1757525400-1757529000@kauaiphilippineculturalcenter.org
SUMMARY:Zumba
DESCRIPTION:Zumba\nJoin us for Zumba every Wednesday from 5:30-6:30 p.m. at the Kaua’i Philippine Cultural Center. This class is offered by donation. A $5 donation is recommended. See you there!
URL:https://kauaiphilippineculturalcenter.org/event/zumba/2025-09-10/
LOCATION:Kauai Philippine Cultural Center\, 4475f Nuhou St\, Lihue\, HI\, 96766\, United States
CATEGORIES:Exercise Class
ATTACH;FMTTYPE=image/jpeg:https://kauaiphilippineculturalcenter.org/wp-content/uploads/2025/06/1000005257.jpg
END:VEVENT
BEGIN:VEVENT
DTSTART;TZID=Pacific/Honolulu:20250903T173000
DTEND;TZID=Pacific/Honolulu:20250903T183000
DTSTAMP:20260420T123316
CREATED:20250604T215102Z
LAST-MODIFIED:20250604T220903Z
UID:10000023-1756920600-1756924200@kauaiphilippineculturalcenter.org
SUMMARY:Zumba
DESCRIPTION:Zumba\nJoin us for Zumba every Wednesday from 5:30-6:30 p.m. at the Kaua’i Philippine Cultural Center. This class is offered by donation. A $5 donation is recommended. See you there!
URL:https://kauaiphilippineculturalcenter.org/event/zumba/2025-09-03/
LOCATION:Kauai Philippine Cultural Center\, 4475f Nuhou St\, Lihue\, HI\, 96766\, United States
CATEGORIES:Exercise Class
ATTACH;FMTTYPE=image/jpeg:https://kauaiphilippineculturalcenter.org/wp-content/uploads/2025/06/1000005257.jpg
END:VEVENT
END:VCALENDAR