BEGIN:VCALENDAR
VERSION:2.0
PRODID:-//Book Your Event at Kauai Philippine Cultural Center - ECPv6.13.1//NONSGML v1.0//EN
CALSCALE:GREGORIAN
METHOD:PUBLISH
X-WR-CALNAME:Book Your Event at Kauai Philippine Cultural Center
X-ORIGINAL-URL:https://kauaiphilippineculturalcenter.org
X-WR-CALDESC:Events for Book Your Event at Kauai Philippine Cultural Center
REFRESH-INTERVAL;VALUE=DURATION:PT1H
X-Robots-Tag:noindex
X-PUBLISHED-TTL:PT1H
BEGIN:VTIMEZONE
TZID:UTC
BEGIN:STANDARD
TZOFFSETFROM:+0000
TZOFFSETTO:+0000
TZNAME:UTC
DTSTART:20260101T000000
END:STANDARD
END:VTIMEZONE
BEGIN:VTIMEZONE
TZID:Pacific/Honolulu
BEGIN:STANDARD
TZOFFSETFROM:-1000
TZOFFSETTO:-1000
TZNAME:HST
DTSTART:20260101T000000
END:STANDARD
END:VTIMEZONE
BEGIN:VEVENT
DTSTART;TZID=UTC:20260422T151500
DTEND;TZID=UTC:20260422T170000
DTSTAMP:20260422T013748
CREATED:20251104T004832Z
LAST-MODIFIED:20251104T004832Z
UID:10001081-1776870900-1776877200@kauaiphilippineculturalcenter.org
SUMMARY:Wellness Afternoon
DESCRIPTION:Mindfulness for Stress Reduction \nChair Yoga & Qigong Flow \nLearn mindful practices to help you find peace and calm. \nDonation based.
URL:https://kauaiphilippineculturalcenter.org/event/wellness-afternoon/2026-04-22/
LOCATION:Kauai Philippine Cultural Center\, 4475f Nuhou St\, Lihue\, HI\, 96766\, United States
CATEGORIES:Exercise Class
ATTACH;FMTTYPE=image/jpeg:https://kauaiphilippineculturalcenter.org/wp-content/uploads/2025/11/4070082565064109083.jpg
END:VEVENT
BEGIN:VEVENT
DTSTART;TZID=Pacific/Honolulu:20260422T173000
DTEND;TZID=Pacific/Honolulu:20260422T183000
DTSTAMP:20260422T013748
CREATED:20250604T215102Z
LAST-MODIFIED:20250604T220903Z
UID:10000056-1776879000-1776882600@kauaiphilippineculturalcenter.org
SUMMARY:Zumba
DESCRIPTION:Zumba\nJoin us for Zumba every Wednesday from 5:30-6:30 p.m. at the Kaua’i Philippine Cultural Center. This class is offered by donation. A $5 donation is recommended. See you there!
URL:https://kauaiphilippineculturalcenter.org/event/zumba/2026-04-22/
LOCATION:Kauai Philippine Cultural Center\, 4475f Nuhou St\, Lihue\, HI\, 96766\, United States
CATEGORIES:Exercise Class
ATTACH;FMTTYPE=image/jpeg:https://kauaiphilippineculturalcenter.org/wp-content/uploads/2025/06/1000005257.jpg
END:VEVENT
END:VCALENDAR